BEGIN:VCALENDAR
VERSION:2.0
PRODID:-//My Calendar//http://www.joedolson.com//v3.2.17//EN
METHOD:PUBLISH
CALSCALE:GREGORIAN
X-WR-CALNAME:Druidism for the Latter Age
X-PUBLISHED-TTL:PT24H
REFRESH-INTERVAL;VALUE=DURATION:PT24H
X-WR-CALDESC:Events from Druidism for the Latter Age
BEGIN:VEVENT
UID:13-8
LOCATION:Emerson UU Church (on Zoom)   Canoga Park CA 91303
SUMMARY:Pagan Chat &amp; Study Group
DTSTAMP:20220621T070000
ORGANIZER;CN=druidgrove:MAILTO:info@romanticpolytheism.com
DTSTART;TZID=America/Los_Angeles:20220621T070000
DTEND;TZID=America/Los_Angeles:20220621T194000
URL;VALUE=URI:https://tinyurl.com/emersonuuc2
DESCRIPTION:Twice-monthly online meeting sponsored by Emerson Unitarian Universalist Church in Canoga Park, CA and co-moderated by Rev. Covert.  Open to anyone interested in exploring Paganism from a UU perspective. https://tinyurl.com/emersonuuc2
CATEGORIES:General
END:VEVENT
BEGIN:VEVENT
UID:485-5
LOCATION:Center for Spiritual Living   Grenada Hills CA
SUMMARY:"The Mother and The World Below" - Sepulveda Unitarian Universalist Society
DTSTAMP:20220508T170000
ORGANIZER;CN=druidgrove:MAILTO:info@romanticpolytheism.com
DTSTART;TZID=America/Los_Angeles:20220508T170000
DTEND;TZID=America/Los_Angeles:20220508T180000
URL;VALUE=URI:https://druidgrove.org/my-calendar/
DESCRIPTION:Rev. Covert will lead the Sunday service for Sepulveda UU Society (formerly at "The Onion"). 
CATEGORIES:General
END:VEVENT
BEGIN:VEVENT
UID:484-4
LOCATION:Emerson UU Church (in-person &amp; on Zoom) 7304 Jordan Ave  Canoga Park CA 91303
SUMMARY:Emerson UUC Pagan Group Beltaine Service
DTSTAMP:20220501T103000
ORGANIZER;CN=druidgrove:MAILTO:info@romanticpolytheism.com
DTSTART;TZID=America/Los_Angeles:20220501T103000
DTEND;TZID=America/Los_Angeles:20220501T113000
URL;VALUE=URI:http://emersonuuc.org
DESCRIPTION: http://emersonuuc.org
CATEGORIES:General
END:VEVENT
BEGIN:VEVENT
UID:483-3
LOCATION:Emerson Unitarian Universalist Church Zoom room #1
SUMMARY:Emerson UUC Pagan Group Summer Solstice
DTSTAMP:20210622T183000
ORGANIZER;CN=druidgrove:MAILTO:info@romanticpolytheism.com
DTSTART;TZID=America/Los_Angeles:20210622T183000
DTEND;TZID=America/Los_Angeles:20210622T200000
URL;VALUE=URI:https://druidgrove.org/my-calendar/
DESCRIPTION:Virtual Summer Solstice ritual in Zoom, sponsored by Emerson UU Church's Pagan Chat &amp; Study Group, co-moderated by Rev. Covert 
CATEGORIES:General
END:VEVENT
BEGIN:VEVENT
UID:242-2
LOCATION:Emerson UU Church (on Zoom)   Canoga Park CA 91303
SUMMARY:Pagan Chat &amp; Study Group
DTSTAMP:20210601T190000
ORGANIZER;CN=druidgrove:MAILTO:info@romanticpolytheism.com
DTSTART;TZID=America/Los_Angeles:20210601T190000
DTEND;TZID=America/Los_Angeles:20210601T203000
URL;VALUE=URI:https://tinyurl.com/emersonuuc2
DESCRIPTION:Twice-monthly online meeting sponsored by Emerson Unitarian Universalist Church in Canoga Park, CA and co-moderated by Rev. Covert.  Open to anyone interested in exploring Paganism from a UU perspective. https://tinyurl.com/emersonuuc2
CATEGORIES:General
END:VEVENT
BEGIN:VEVENT
UID:243-2
LOCATION:Emerson UU Church (on Zoom)   Canoga Park CA 91303
SUMMARY:Pagan Chat &amp; Study Group
DTSTAMP:20210706T190000
ORGANIZER;CN=druidgrove:MAILTO:info@romanticpolytheism.com
DTSTART;TZID=America/Los_Angeles:20210706T190000
DTEND;TZID=America/Los_Angeles:20210706T203000
URL;VALUE=URI:https://tinyurl.com/emersonuuc2
DESCRIPTION:Twice-monthly online meeting sponsored by Emerson Unitarian Universalist Church in Canoga Park, CA and co-moderated by Rev. Covert.  Open to anyone interested in exploring Paganism from a UU perspective. https://tinyurl.com/emersonuuc2
CATEGORIES:General
END:VEVENT
BEGIN:VEVENT
UID:244-2
LOCATION:Emerson UU Church (on Zoom)   Canoga Park CA 91303
SUMMARY:Pagan Chat &amp; Study Group
DTSTAMP:20210803T190000
ORGANIZER;CN=druidgrove:MAILTO:info@romanticpolytheism.com
DTSTART;TZID=America/Los_Angeles:20210803T190000
DTEND;TZID=America/Los_Angeles:20210803T203000
URL;VALUE=URI:https://tinyurl.com/emersonuuc2
DESCRIPTION:Twice-monthly online meeting sponsored by Emerson Unitarian Universalist Church in Canoga Park, CA and co-moderated by Rev. Covert.  Open to anyone interested in exploring Paganism from a UU perspective. https://tinyurl.com/emersonuuc2
CATEGORIES:General
END:VEVENT
BEGIN:VEVENT
UID:245-2
LOCATION:Emerson UU Church (on Zoom)   Canoga Park CA 91303
SUMMARY:Pagan Chat &amp; Study Group
DTSTAMP:20210907T190000
ORGANIZER;CN=druidgrove:MAILTO:info@romanticpolytheism.com
DTSTART;TZID=America/Los_Angeles:20210907T190000
DTEND;TZID=America/Los_Angeles:20210907T203000
URL;VALUE=URI:https://tinyurl.com/emersonuuc2
DESCRIPTION:Twice-monthly online meeting sponsored by Emerson Unitarian Universalist Church in Canoga Park, CA and co-moderated by Rev. Covert.  Open to anyone interested in exploring Paganism from a UU perspective. https://tinyurl.com/emersonuuc2
CATEGORIES:General
END:VEVENT
BEGIN:VEVENT
UID:246-2
LOCATION:Emerson UU Church (on Zoom)   Canoga Park CA 91303
SUMMARY:Pagan Chat &amp; Study Group
DTSTAMP:20211005T190000
ORGANIZER;CN=druidgrove:MAILTO:info@romanticpolytheism.com
DTSTART;TZID=America/Los_Angeles:20211005T190000
DTEND;TZID=America/Los_Angeles:20211005T203000
URL;VALUE=URI:https://tinyurl.com/emersonuuc2
DESCRIPTION:Twice-monthly online meeting sponsored by Emerson Unitarian Universalist Church in Canoga Park, CA and co-moderated by Rev. Covert.  Open to anyone interested in exploring Paganism from a UU perspective. https://tinyurl.com/emersonuuc2
CATEGORIES:General
END:VEVENT
BEGIN:VEVENT
UID:247-2
LOCATION:Emerson UU Church (on Zoom)   Canoga Park CA 91303
SUMMARY:Pagan Chat &amp; Study Group
DTSTAMP:20211102T190000
ORGANIZER;CN=druidgrove:MAILTO:info@romanticpolytheism.com
DTSTART;TZID=America/Los_Angeles:20211102T190000
DTEND;TZID=America/Los_Angeles:20211102T203000
URL;VALUE=URI:https://tinyurl.com/emersonuuc2
DESCRIPTION:Twice-monthly online meeting sponsored by Emerson Unitarian Universalist Church in Canoga Park, CA and co-moderated by Rev. Covert.  Open to anyone interested in exploring Paganism from a UU perspective. https://tinyurl.com/emersonuuc2
CATEGORIES:General
END:VEVENT
BEGIN:VEVENT
UID:248-2
LOCATION:Emerson UU Church (on Zoom)   Canoga Park CA 91303
SUMMARY:Pagan Chat &amp; Study Group
DTSTAMP:20211207T190000
ORGANIZER;CN=druidgrove:MAILTO:info@romanticpolytheism.com
DTSTART;TZID=America/Los_Angeles:20211207T190000
DTEND;TZID=America/Los_Angeles:20211207T203000
URL;VALUE=URI:https://tinyurl.com/emersonuuc2
DESCRIPTION:Twice-monthly online meeting sponsored by Emerson Unitarian Universalist Church in Canoga Park, CA and co-moderated by Rev. Covert.  Open to anyone interested in exploring Paganism from a UU perspective. https://tinyurl.com/emersonuuc2
CATEGORIES:General
END:VEVENT
BEGIN:VEVENT
UID:249-2
LOCATION:Emerson UU Church (on Zoom)   Canoga Park CA 91303
SUMMARY:Pagan Chat &amp; Study Group
DTSTAMP:20220104T190000
ORGANIZER;CN=druidgrove:MAILTO:info@romanticpolytheism.com
DTSTART;TZID=America/Los_Angeles:20220104T190000
DTEND;TZID=America/Los_Angeles:20220104T203000
URL;VALUE=URI:https://tinyurl.com/emersonuuc2
DESCRIPTION:Twice-monthly online meeting sponsored by Emerson Unitarian Universalist Church in Canoga Park, CA and co-moderated by Rev. Covert.  Open to anyone interested in exploring Paganism from a UU perspective. https://tinyurl.com/emersonuuc2
CATEGORIES:General
END:VEVENT
BEGIN:VEVENT
UID:250-2
LOCATION:Emerson UU Church (on Zoom)   Canoga Park CA 91303
SUMMARY:Pagan Chat &amp; Study Group
DTSTAMP:20220201T190000
ORGANIZER;CN=druidgrove:MAILTO:info@romanticpolytheism.com
DTSTART;TZID=America/Los_Angeles:20220201T190000
DTEND;TZID=America/Los_Angeles:20220201T203000
URL;VALUE=URI:https://tinyurl.com/emersonuuc2
DESCRIPTION:Twice-monthly online meeting sponsored by Emerson Unitarian Universalist Church in Canoga Park, CA and co-moderated by Rev. Covert.  Open to anyone interested in exploring Paganism from a UU perspective. https://tinyurl.com/emersonuuc2
CATEGORIES:General
END:VEVENT
BEGIN:VEVENT
UID:251-2
LOCATION:Emerson UU Church (on Zoom)   Canoga Park CA 91303
SUMMARY:Pagan Chat &amp; Study Group
DTSTAMP:20220301T190000
ORGANIZER;CN=druidgrove:MAILTO:info@romanticpolytheism.com
DTSTART;TZID=America/Los_Angeles:20220301T190000
DTEND;TZID=America/Los_Angeles:20220301T203000
URL;VALUE=URI:https://tinyurl.com/emersonuuc2
DESCRIPTION:Twice-monthly online meeting sponsored by Emerson Unitarian Universalist Church in Canoga Park, CA and co-moderated by Rev. Covert.  Open to anyone interested in exploring Paganism from a UU perspective. https://tinyurl.com/emersonuuc2
CATEGORIES:General
END:VEVENT
BEGIN:VEVENT
UID:252-2
LOCATION:Emerson UU Church (on Zoom)   Canoga Park CA 91303
SUMMARY:Pagan Chat &amp; Study Group
DTSTAMP:20220405T190000
ORGANIZER;CN=druidgrove:MAILTO:info@romanticpolytheism.com
DTSTART;TZID=America/Los_Angeles:20220405T190000
DTEND;TZID=America/Los_Angeles:20220405T203000
URL;VALUE=URI:https://tinyurl.com/emersonuuc2
DESCRIPTION:Twice-monthly online meeting sponsored by Emerson Unitarian Universalist Church in Canoga Park, CA and co-moderated by Rev. Covert.  Open to anyone interested in exploring Paganism from a UU perspective. https://tinyurl.com/emersonuuc2
CATEGORIES:General
END:VEVENT
BEGIN:VEVENT
UID:253-2
LOCATION:Emerson UU Church (on Zoom)   Canoga Park CA 91303
SUMMARY:Pagan Chat &amp; Study Group
DTSTAMP:20220503T190000
ORGANIZER;CN=druidgrove:MAILTO:info@romanticpolytheism.com
DTSTART;TZID=America/Los_Angeles:20220503T190000
DTEND;TZID=America/Los_Angeles:20220503T203000
URL;VALUE=URI:https://tinyurl.com/emersonuuc2
DESCRIPTION:Twice-monthly online meeting sponsored by Emerson Unitarian Universalist Church in Canoga Park, CA and co-moderated by Rev. Covert.  Open to anyone interested in exploring Paganism from a UU perspective. https://tinyurl.com/emersonuuc2
CATEGORIES:General
END:VEVENT
BEGIN:VEVENT
UID:254-2
LOCATION:Emerson UU Church (on Zoom)   Canoga Park CA 91303
SUMMARY:Pagan Chat &amp; Study Group
DTSTAMP:20220607T190000
ORGANIZER;CN=druidgrove:MAILTO:info@romanticpolytheism.com
DTSTART;TZID=America/Los_Angeles:20220607T190000
DTEND;TZID=America/Los_Angeles:20220607T203000
URL;VALUE=URI:https://tinyurl.com/emersonuuc2
DESCRIPTION:Twice-monthly online meeting sponsored by Emerson Unitarian Universalist Church in Canoga Park, CA and co-moderated by Rev. Covert.  Open to anyone interested in exploring Paganism from a UU perspective. https://tinyurl.com/emersonuuc2
CATEGORIES:General
END:VEVENT
BEGIN:VEVENT
UID:255-2
LOCATION:Emerson UU Church (on Zoom)   Canoga Park CA 91303
SUMMARY:Pagan Chat &amp; Study Group
DTSTAMP:20220705T190000
ORGANIZER;CN=druidgrove:MAILTO:info@romanticpolytheism.com
DTSTART;TZID=America/Los_Angeles:20220705T190000
DTEND;TZID=America/Los_Angeles:20220705T203000
URL;VALUE=URI:https://tinyurl.com/emersonuuc2
DESCRIPTION:Twice-monthly online meeting sponsored by Emerson Unitarian Universalist Church in Canoga Park, CA and co-moderated by Rev. Covert.  Open to anyone interested in exploring Paganism from a UU perspective. https://tinyurl.com/emersonuuc2
CATEGORIES:General
END:VEVENT
BEGIN:VEVENT
UID:256-2
LOCATION:Emerson UU Church (on Zoom)   Canoga Park CA 91303
SUMMARY:Pagan Chat &amp; Study Group
DTSTAMP:20220802T190000
ORGANIZER;CN=druidgrove:MAILTO:info@romanticpolytheism.com
DTSTART;TZID=America/Los_Angeles:20220802T190000
DTEND;TZID=America/Los_Angeles:20220802T203000
URL;VALUE=URI:https://tinyurl.com/emersonuuc2
DESCRIPTION:Twice-monthly online meeting sponsored by Emerson Unitarian Universalist Church in Canoga Park, CA and co-moderated by Rev. Covert.  Open to anyone interested in exploring Paganism from a UU perspective. https://tinyurl.com/emersonuuc2
CATEGORIES:General
END:VEVENT
BEGIN:VEVENT
UID:257-2
LOCATION:Emerson UU Church (on Zoom)   Canoga Park CA 91303
SUMMARY:Pagan Chat &amp; Study Group
DTSTAMP:20220906T190000
ORGANIZER;CN=druidgrove:MAILTO:info@romanticpolytheism.com
DTSTART;TZID=America/Los_Angeles:20220906T190000
DTEND;TZID=America/Los_Angeles:20220906T203000
URL;VALUE=URI:https://tinyurl.com/emersonuuc2
DESCRIPTION:Twice-monthly online meeting sponsored by Emerson Unitarian Universalist Church in Canoga Park, CA and co-moderated by Rev. Covert.  Open to anyone interested in exploring Paganism from a UU perspective. https://tinyurl.com/emersonuuc2
CATEGORIES:General
END:VEVENT
BEGIN:VEVENT
UID:258-2
LOCATION:Emerson UU Church (on Zoom)   Canoga Park CA 91303
SUMMARY:Pagan Chat &amp; Study Group
DTSTAMP:20221004T190000
ORGANIZER;CN=druidgrove:MAILTO:info@romanticpolytheism.com
DTSTART;TZID=America/Los_Angeles:20221004T190000
DTEND;TZID=America/Los_Angeles:20221004T203000
URL;VALUE=URI:https://tinyurl.com/emersonuuc2
DESCRIPTION:Twice-monthly online meeting sponsored by Emerson Unitarian Universalist Church in Canoga Park, CA and co-moderated by Rev. Covert.  Open to anyone interested in exploring Paganism from a UU perspective. https://tinyurl.com/emersonuuc2
CATEGORIES:General
END:VEVENT
BEGIN:VEVENT
UID:259-2
LOCATION:Emerson UU Church (on Zoom)   Canoga Park CA 91303
SUMMARY:Pagan Chat &amp; Study Group
DTSTAMP:20221101T190000
ORGANIZER;CN=druidgrove:MAILTO:info@romanticpolytheism.com
DTSTART;TZID=America/Los_Angeles:20221101T190000
DTEND;TZID=America/Los_Angeles:20221101T203000
URL;VALUE=URI:https://tinyurl.com/emersonuuc2
DESCRIPTION:Twice-monthly online meeting sponsored by Emerson Unitarian Universalist Church in Canoga Park, CA and co-moderated by Rev. Covert.  Open to anyone interested in exploring Paganism from a UU perspective. https://tinyurl.com/emersonuuc2
CATEGORIES:General
END:VEVENT
BEGIN:VEVENT
UID:260-2
LOCATION:Emerson UU Church (on Zoom)   Canoga Park CA 91303
SUMMARY:Pagan Chat &amp; Study Group
DTSTAMP:20221206T190000
ORGANIZER;CN=druidgrove:MAILTO:info@romanticpolytheism.com
DTSTART;TZID=America/Los_Angeles:20221206T190000
DTEND;TZID=America/Los_Angeles:20221206T203000
URL;VALUE=URI:https://tinyurl.com/emersonuuc2
DESCRIPTION:Twice-monthly online meeting sponsored by Emerson Unitarian Universalist Church in Canoga Park, CA and co-moderated by Rev. Covert.  Open to anyone interested in exploring Paganism from a UU perspective. https://tinyurl.com/emersonuuc2
CATEGORIES:General
END:VEVENT
BEGIN:VEVENT
UID:261-2
LOCATION:Emerson UU Church (on Zoom)   Canoga Park CA 91303
SUMMARY:Pagan Chat &amp; Study Group
DTSTAMP:20230103T190000
ORGANIZER;CN=druidgrove:MAILTO:info@romanticpolytheism.com
DTSTART;TZID=America/Los_Angeles:20230103T190000
DTEND;TZID=America/Los_Angeles:20230103T203000
URL;VALUE=URI:https://tinyurl.com/emersonuuc2
DESCRIPTION:Twice-monthly online meeting sponsored by Emerson Unitarian Universalist Church in Canoga Park, CA and co-moderated by Rev. Covert.  Open to anyone interested in exploring Paganism from a UU perspective. https://tinyurl.com/emersonuuc2
CATEGORIES:General
END:VEVENT
BEGIN:VEVENT
UID:262-2
LOCATION:Emerson UU Church (on Zoom)   Canoga Park CA 91303
SUMMARY:Pagan Chat &amp; Study Group
DTSTAMP:20230207T190000
ORGANIZER;CN=druidgrove:MAILTO:info@romanticpolytheism.com
DTSTART;TZID=America/Los_Angeles:20230207T190000
DTEND;TZID=America/Los_Angeles:20230207T203000
URL;VALUE=URI:https://tinyurl.com/emersonuuc2
DESCRIPTION:Twice-monthly online meeting sponsored by Emerson Unitarian Universalist Church in Canoga Park, CA and co-moderated by Rev. Covert.  Open to anyone interested in exploring Paganism from a UU perspective. https://tinyurl.com/emersonuuc2
CATEGORIES:General
END:VEVENT
BEGIN:VEVENT
UID:263-2
LOCATION:Emerson UU Church (on Zoom)   Canoga Park CA 91303
SUMMARY:Pagan Chat &amp; Study Group
DTSTAMP:20230307T190000
ORGANIZER;CN=druidgrove:MAILTO:info@romanticpolytheism.com
DTSTART;TZID=America/Los_Angeles:20230307T190000
DTEND;TZID=America/Los_Angeles:20230307T203000
URL;VALUE=URI:https://tinyurl.com/emersonuuc2
DESCRIPTION:Twice-monthly online meeting sponsored by Emerson Unitarian Universalist Church in Canoga Park, CA and co-moderated by Rev. Covert.  Open to anyone interested in exploring Paganism from a UU perspective. https://tinyurl.com/emersonuuc2
CATEGORIES:General
END:VEVENT
BEGIN:VEVENT
UID:264-2
LOCATION:Emerson UU Church (on Zoom)   Canoga Park CA 91303
SUMMARY:Pagan Chat &amp; Study Group
DTSTAMP:20230404T190000
ORGANIZER;CN=druidgrove:MAILTO:info@romanticpolytheism.com
DTSTART;TZID=America/Los_Angeles:20230404T190000
DTEND;TZID=America/Los_Angeles:20230404T203000
URL;VALUE=URI:https://tinyurl.com/emersonuuc2
DESCRIPTION:Twice-monthly online meeting sponsored by Emerson Unitarian Universalist Church in Canoga Park, CA and co-moderated by Rev. Covert.  Open to anyone interested in exploring Paganism from a UU perspective. https://tinyurl.com/emersonuuc2
CATEGORIES:General
END:VEVENT
BEGIN:VEVENT
UID:265-2
LOCATION:Emerson UU Church (on Zoom)   Canoga Park CA 91303
SUMMARY:Pagan Chat &amp; Study Group
DTSTAMP:20230502T190000
ORGANIZER;CN=druidgrove:MAILTO:info@romanticpolytheism.com
DTSTART;TZID=America/Los_Angeles:20230502T190000
DTEND;TZID=America/Los_Angeles:20230502T203000
URL;VALUE=URI:https://tinyurl.com/emersonuuc2
DESCRIPTION:Twice-monthly online meeting sponsored by Emerson Unitarian Universalist Church in Canoga Park, CA and co-moderated by Rev. Covert.  Open to anyone interested in exploring Paganism from a UU perspective. https://tinyurl.com/emersonuuc2
CATEGORIES:General
END:VEVENT
BEGIN:VEVENT
UID:266-2
LOCATION:Emerson UU Church (on Zoom)   Canoga Park CA 91303
SUMMARY:Pagan Chat &amp; Study Group
DTSTAMP:20230606T190000
ORGANIZER;CN=druidgrove:MAILTO:info@romanticpolytheism.com
DTSTART;TZID=America/Los_Angeles:20230606T190000
DTEND;TZID=America/Los_Angeles:20230606T203000
URL;VALUE=URI:https://tinyurl.com/emersonuuc2
DESCRIPTION:Twice-monthly online meeting sponsored by Emerson Unitarian Universalist Church in Canoga Park, CA and co-moderated by Rev. Covert.  Open to anyone interested in exploring Paganism from a UU perspective. https://tinyurl.com/emersonuuc2
CATEGORIES:General
END:VEVENT
BEGIN:VEVENT
UID:267-2
LOCATION:Emerson UU Church (on Zoom)   Canoga Park CA 91303
SUMMARY:Pagan Chat &amp; Study Group
DTSTAMP:20230704T190000
ORGANIZER;CN=druidgrove:MAILTO:info@romanticpolytheism.com
DTSTART;TZID=America/Los_Angeles:20230704T190000
DTEND;TZID=America/Los_Angeles:20230704T203000
URL;VALUE=URI:https://tinyurl.com/emersonuuc2
DESCRIPTION:Twice-monthly online meeting sponsored by Emerson Unitarian Universalist Church in Canoga Park, CA and co-moderated by Rev. Covert.  Open to anyone interested in exploring Paganism from a UU perspective. https://tinyurl.com/emersonuuc2
CATEGORIES:General
END:VEVENT
END:VCALENDAR